BEGIN:VCALENDAR
VERSION:2.0
PRODID:-//Cardiovascular Institute of the South - ECPv6.15.20//NONSGML v1.0//EN
CALSCALE:GREGORIAN
METHOD:PUBLISH
X-ORIGINAL-URL:https://www.cardio.com
X-WR-CALDESC:Events for Cardiovascular Institute of the South
REFRESH-INTERVAL;VALUE=DURATION:PT1H
X-Robots-Tag:noindex
X-PUBLISHED-TTL:PT1H
BEGIN:VTIMEZONE
TZID:America/New_York
BEGIN:DAYLIGHT
TZOFFSETFROM:-0500
TZOFFSETTO:-0400
TZNAME:EDT
DTSTART:20250309T070000
END:DAYLIGHT
BEGIN:STANDARD
TZOFFSETFROM:-0400
TZOFFSETTO:-0500
TZNAME:EST
DTSTART:20251102T060000
END:STANDARD
BEGIN:DAYLIGHT
TZOFFSETFROM:-0500
TZOFFSETTO:-0400
TZNAME:EDT
DTSTART:20260308T070000
END:DAYLIGHT
BEGIN:STANDARD
TZOFFSETFROM:-0400
TZOFFSETTO:-0500
TZNAME:EST
DTSTART:20261101T060000
END:STANDARD
BEGIN:DAYLIGHT
TZOFFSETFROM:-0500
TZOFFSETTO:-0400
TZNAME:EDT
DTSTART:20270314T070000
END:DAYLIGHT
BEGIN:STANDARD
TZOFFSETFROM:-0400
TZOFFSETTO:-0500
TZNAME:EST
DTSTART:20271107T060000
END:STANDARD
END:VTIMEZONE
BEGIN:VEVENT
DTSTART;TZID=America/New_York:20260327T133000
DTEND;TZID=America/New_York:20260327T153000
DTSTAMP:20260420T055930
CREATED:20260317T203229Z
LAST-MODIFIED:20260317T203436Z
UID:5814-1774618200-1774625400@www.cardio.com
SUMMARY:CIS Raceland: Free Screening
DESCRIPTION:Did you know heart disease is the leading cause of death in the U.S.? Our providers at Cardiovascular Institute of the South (CIS) want to see you before you have symptoms or a life-changing cardiac event. Join us for one of our free heart screenings. \nCIS is hosting a free cardiovascular screening at CIS Raceland on Friday\, March 27 from 1:30 pm – 3:30 pm. \nGuests will receive a complimentary Electrocardiogram (EKG) and Blood Pressure screenings. An EKG is a painless test that records the electrical signals of the heart. The screening can detect blockages\, the thickness of the heart wall\, past heart attacks and more. Results will be reviewed on site. \nRisk factors of cardiovascular disease include family history\, high cholesterol\, high blood pressure and diabetes\, as well as smoking\, being overweight or being inactive. \nRegistration is required. Please reserve your spot here or by calling (985) 873-5688 with any questions. \n  \nhttps://CISRacMar27.eventbrite.com
URL:https://www.cardio.com/event/https-cisracmar27-eventbrite-com/
LOCATION:CIS Raceland\, 102 Twin Oaks Drive\, Raceland\, LA\, 70394\, United States
CATEGORIES:Free Screening
ATTACH;FMTTYPE=image/png:https://www.cardio.com/wp-content/uploads/2026/03/3.27-Raceland-Heart-Month-EBFB-scaled.png
END:VEVENT
END:VCALENDAR